BEGIN:VCALENDAR
VERSION:2.0
PRODID:-//Goochelclub Lucky Ring - ECPv4.7.4//NONSGML v1.0//EN
CALSCALE:GREGORIAN
METHOD:PUBLISH
X-WR-CALNAME:Goochelclub Lucky Ring
X-ORIGINAL-URL:https://www.luckyring.be
X-WR-CALDESC:Events for Goochelclub Lucky Ring
BEGIN:VEVENT
DTSTART;TZID=UTC+1:20250920T100000
DTEND;TZID=UTC+1:20250920T100000
DTSTAMP:20260421T185035
CREATED:20250912T102432Z
LAST-MODIFIED:20250912T103233Z
UID:6669-1758362400-1758362400@www.luckyring.be
SUMMARY:Open Kampioenschap van Vlaanderen
DESCRIPTION:✨ Open Kampioenschap van Vlaanderen – Goochelclub Mageia Mol ✨🎩📅 Zaterdag 20 september 2025 – Parochiezaal De Grot\, Mol-Wezel \nEen hele dag vol magie!🪄 Wedstrijd close-up & toneelgoochelen + jeugdconcours🛍️ Dealersruimte vanaf 9:30 uur🎭 Wedstrijdstart om 10:00 uur🌟 Magische Avondshow om 18:30 uur \n \n
URL:https://www.luckyring.be/event/open-kampioenschap-van-vlaanderen/
CATEGORIES:Congres
END:VEVENT
END:VCALENDAR