BEGIN:VCALENDAR
VERSION:2.0
PRODID:-//Goochelclub Lucky Ring - ECPv4.7.4//NONSGML v1.0//EN
CALSCALE:GREGORIAN
METHOD:PUBLISH
X-WR-CALNAME:Goochelclub Lucky Ring
X-ORIGINAL-URL:https://www.luckyring.be
X-WR-CALDESC:Events for Goochelclub Lucky Ring
BEGIN:VEVENT
DTSTART;TZID=UTC+1:20260327T190000
DTEND;TZID=UTC+1:20260327T200000
DTSTAMP:20260421T085408
CREATED:20260228T124801Z
LAST-MODIFIED:20260228T124801Z
UID:6823-1774638000-1774641600@www.luckyring.be
SUMMARY:Jeugdmeeting LR - 27/03/2026
DESCRIPTION:Goochelclub voor de jeugd. \nStart om 19 uur. \n
URL:https://www.luckyring.be/event/jeugdmeeting-lr-27-03-2026/
LOCATION:CC Het Bolwerk\, Bolwerkstraat 17\, Vilvoorde\, Brabant\, 1800\, België
CATEGORIES:Jeugdclub
ATTACH;FMTTYPE=image/jpeg:https://www.luckyring.be/wp-content/uploads/2024/09/Nieuw-Logo-LR.jpg
END:VEVENT
END:VCALENDAR