BEGIN:VCALENDAR
VERSION:2.0
PRODID:-//Goochelclub Lucky Ring - ECPv4.7.4//NONSGML v1.0//EN
CALSCALE:GREGORIAN
METHOD:PUBLISH
X-WR-CALNAME:Goochelclub Lucky Ring
X-ORIGINAL-URL:https://www.luckyring.be
X-WR-CALDESC:Events for Goochelclub Lucky Ring
BEGIN:VEVENT
DTSTART;TZID=UTC+1:20250425T190000
DTEND;TZID=UTC+1:20250425T200000
DTSTAMP:20260421T171802
CREATED:20250422T054151Z
LAST-MODIFIED:20250422T095530Z
UID:6530-1745607600-1745611200@www.luckyring.be
SUMMARY:Jeugdclub LR  - 25/04/2025
DESCRIPTION:jeugdclub Lucky ring. Starten om 19 u. \n
URL:https://www.luckyring.be/event/jeugdmeeting-25-04-2025/
LOCATION:CC Het Bolwerk\, Bolwerkstraat 17\, Vilvoorde\, Brabant\, 1800\, België
CATEGORIES:Jeugdclub
ATTACH;FMTTYPE=image/jpeg:https://www.luckyring.be/wp-content/uploads/2024/09/Lucky-Ring-Logo-02-e1748338505379.jpg
END:VEVENT
END:VCALENDAR