BEGIN:VCALENDAR
VERSION:2.0
PRODID:-//Goochelclub Lucky Ring - ECPv4.7.4//NONSGML v1.0//EN
CALSCALE:GREGORIAN
METHOD:PUBLISH
X-WR-CALNAME:Goochelclub Lucky Ring
X-ORIGINAL-URL:https://www.luckyring.be
X-WR-CALDESC:Events for Goochelclub Lucky Ring
BEGIN:VEVENT
DTSTART;TZID=UTC+1:20250523T190000
DTEND;TZID=UTC+1:20250523T200000
DTSTAMP:20260421T171801
CREATED:20250422T100201Z
LAST-MODIFIED:20250422T101040Z
UID:6542-1748026800-1748030400@www.luckyring.be
SUMMARY:Jeugdclub LR - 23/05/2025
DESCRIPTION:Jeugdclub start om 19 uur \n
URL:https://www.luckyring.be/event/jeugdclub-lr-23-05-2025/
LOCATION:CC Het Bolwerk\, Bolwerkstraat 17\, Vilvoorde\, Brabant\, 1800\, België
CATEGORIES:Jeugdclub
ATTACH;FMTTYPE=image/jpeg:https://www.luckyring.be/wp-content/uploads/2024/09/Lucky-Ring-Logo-02-e1748338505379.jpg
END:VEVENT
END:VCALENDAR