BEGIN:VCALENDAR
VERSION:2.0
PRODID:-//Goochelclub Lucky Ring - ECPv4.7.4//NONSGML v1.0//EN
CALSCALE:GREGORIAN
METHOD:PUBLISH
X-WR-CALNAME:Goochelclub Lucky Ring
X-ORIGINAL-URL:https://www.luckyring.be
X-WR-CALDESC:Events for Goochelclub Lucky Ring
BEGIN:VEVENT
DTSTART;TZID=UTC+1:20250926T200000
DTEND;TZID=UTC+1:20250926T223000
DTSTAMP:20260421T185332
CREATED:20250912T101917Z
LAST-MODIFIED:20250914T161739Z
UID:6666-1758916800-1758925800@www.luckyring.be
SUMMARY:Clubmeeting Lucky Ring - 26/09/20
DESCRIPTION:Clubmeeting Lucky Ring. \n Zoals gewoonlijk starten we om± 20 uur. \nSee you all. \n
URL:https://www.luckyring.be/event/clubmeeting-lucky-ring-2609200/
LOCATION:CC Het Bolwerk\, Bolwerkstraat 17\, Vilvoorde\, Brabant\, 1800\, België
CATEGORIES:Clubmeeting LR
ATTACH;FMTTYPE=image/jpeg:https://www.luckyring.be/wp-content/uploads/2024/09/Nieuw-Logo-LR.jpg
ORGANIZER;CN="Lucky%20Ring":MAILTO:info@luckyring.be
END:VEVENT
END:VCALENDAR