BEGIN:VCALENDAR
VERSION:2.0
PRODID:-//Goochelclub Lucky Ring - ECPv4.7.4//NONSGML v1.0//EN
CALSCALE:GREGORIAN
METHOD:PUBLISH
X-WR-CALNAME:Goochelclub Lucky Ring
X-ORIGINAL-URL:https://www.luckyring.be
X-WR-CALDESC:Events for Goochelclub Lucky Ring
BEGIN:VEVENT
DTSTART;TZID=UTC+1:20250328T200000
DTEND;TZID=UTC+1:20250328T223000
DTSTAMP:20260421T183414
CREATED:20250315T105739Z
LAST-MODIFIED:20250315T105739Z
UID:6523-1743192000-1743201000@www.luckyring.be
SUMMARY:Clubmeeting Lucky Ring
DESCRIPTION:Clubmeeting LR – start om 20 uur. \nalle op post \n
URL:https://www.luckyring.be/event/clubmeeting-lucky-ring-2/
LOCATION:CC Het Bolwerk\, Bolwerkstraat 17\, Vilvoorde\, Brabant\, 1800\, België
CATEGORIES:Clubmeeting LR
ATTACH;FMTTYPE=image/jpeg:https://www.luckyring.be/wp-content/uploads/2024/09/Lucky-Ring-Logo-02-e1748338505379.jpg
END:VEVENT
END:VCALENDAR