BEGIN:VCALENDAR
VERSION:2.0
PRODID:-//Goochelclub Lucky Ring - ECPv4.7.4//NONSGML v1.0//EN
CALSCALE:GREGORIAN
METHOD:PUBLISH
X-WR-CALNAME:Goochelclub Lucky Ring
X-ORIGINAL-URL:https://www.luckyring.be
X-WR-CALDESC:Events for Goochelclub Lucky Ring
BEGIN:VEVENT
DTSTART;TZID=UTC+1:20250613T200000
DTEND;TZID=UTC+1:20250613T223000
DTSTAMP:20260421T203113
CREATED:20250422T095906Z
LAST-MODIFIED:20250527T093527Z
UID:6540-1749844800-1749853800@www.luckyring.be
SUMMARY:Clubmeeting LR - 13/06/2025
DESCRIPTION:Vergadering start om 20 uur \n
URL:https://www.luckyring.be/event/clubmeeting-lr-09-05-2025/
LOCATION:CC Het Bolwerk\, Bolwerkstraat 17\, Vilvoorde\, Brabant\, 1800\, België
CATEGORIES:Clubmeeting LR
ATTACH;FMTTYPE=image/jpeg:https://www.luckyring.be/wp-content/uploads/2024/09/Lucky-Ring-Logo-02-e1748338505379.jpg
END:VEVENT
END:VCALENDAR